BEGIN:VCALENDAR
VERSION:2.0
PRODID:-//Metro Atlanta Hawg Hunters - ECPv4.9.6//NONSGML v1.0//EN
CALSCALE:GREGORIAN
METHOD:PUBLISH
X-WR-CALNAME:Metro Atlanta Hawg Hunters
X-ORIGINAL-URL:https://metroatlantahawghunters.net
X-WR-CALDESC:Events for Metro Atlanta Hawg Hunters
BEGIN:VTIMEZONE
TZID:"America/New_York"
BEGIN:DAYLIGHT
TZOFFSETFROM:-0500
TZOFFSETTO:-0400
TZNAME:EDT
DTSTART:20230312T070000
END:DAYLIGHT
BEGIN:STANDARD
TZOFFSETFROM:-0400
TZOFFSETTO:-0500
TZNAME:EST
DTSTART:20231105T060000
END:STANDARD
END:VTIMEZONE
BEGIN:VEVENT
DTSTART;TZID="America/New_York":20231202T005500
DTEND;TZID="America/New_York":20231202T005600
DTSTAMP:20260423T123557
CREATED:20221222T162725Z
LAST-MODIFIED:20240202T012119Z
UID:4546-1701478500-1701478560@metroatlantahawghunters.net
SUMMARY:Lake Jackson
DESCRIPTION:
URL:https://metroatlantahawghunters.net/event/lake-jackson-4/
END:VEVENT
END:VCALENDAR