BEGIN:VCALENDAR
VERSION:2.0
PRODID:-//Metro Atlanta Hawg Hunters - ECPv4.9.6//NONSGML v1.0//EN
CALSCALE:GREGORIAN
METHOD:PUBLISH
X-WR-CALNAME:Metro Atlanta Hawg Hunters
X-ORIGINAL-URL:https://metroatlantahawghunters.net
X-WR-CALDESC:Events for Metro Atlanta Hawg Hunters
BEGIN:VTIMEZONE
TZID:"America/New_York"
BEGIN:DAYLIGHT
TZOFFSETFROM:-0500
TZOFFSETTO:-0400
TZNAME:EDT
DTSTART:20220313T070000
END:DAYLIGHT
BEGIN:STANDARD
TZOFFSETFROM:-0400
TZOFFSETTO:-0500
TZNAME:EST
DTSTART:20221106T060000
END:STANDARD
END:VTIMEZONE
BEGIN:VEVENT
DTSTART;TZID="America/New_York":20221015T015500
DTEND;TZID="America/New_York":20221016T015500
DTSTAMP:20260424T133943
CREATED:20210107T045112Z
LAST-MODIFIED:20220215T182648Z
UID:2135-1665798900-1665885300@metroatlantahawghunters.net
SUMMARY:MAHH
DESCRIPTION:
URL:https://metroatlantahawghunters.net/event/mahh-23/
LOCATION:Logan Martin Lake\, 7062 Stemley Rd\, Talladega\, AL\, 35160\, United States
ORGANIZER;CN="Metro%20Atlanta%20Hawg%20Hunters":MAILTO:Spotstickerman300@yahoo.com
END:VEVENT
END:VCALENDAR