BEGIN:VCALENDAR
VERSION:2.0
PRODID:-//Metro Atlanta Hawg Hunters - ECPv4.9.6//NONSGML v1.0//EN
CALSCALE:GREGORIAN
METHOD:PUBLISH
X-WR-CALNAME:Metro Atlanta Hawg Hunters
X-ORIGINAL-URL:https://metroatlantahawghunters.net
X-WR-CALDESC:Events for Metro Atlanta Hawg Hunters
BEGIN:VTIMEZONE
TZID:"America/New_York"
BEGIN:DAYLIGHT
TZOFFSETFROM:-0500
TZOFFSETTO:-0400
TZNAME:EDT
DTSTART:20250309T070000
END:DAYLIGHT
BEGIN:STANDARD
TZOFFSETFROM:-0400
TZOFFSETTO:-0500
TZNAME:EST
DTSTART:20251102T060000
END:STANDARD
END:VTIMEZONE
BEGIN:VEVENT
DTSTART;TZID="America/New_York":20251213T015500
DTEND;TZID="America/New_York":20251213T015600
DTSTAMP:20260421T223908
CREATED:20250225T222429Z
LAST-MODIFIED:20250226T031054Z
UID:5526-1765590900-1765590960@metroatlantahawghunters.net
SUMMARY:Metro - Lake Jackson - Berrys
DESCRIPTION:
URL:https://metroatlantahawghunters.net/event/metro-lake-jackson-berrys/
LOCATION:Berry’s Marina\, 330 Waters Bridge Cir\, Covington\, GA\, 30014\, United States
CATEGORIES:MAHH
ORGANIZER;CN="Metro%20Atlanta%20Hawg%20Hunters":MAILTO:Spotstickerman300@yahoo.com
END:VEVENT
END:VCALENDAR