BEGIN:VCALENDAR
VERSION:2.0
PRODID:-//Metro Atlanta Hawg Hunters - ECPv4.9.6//NONSGML v1.0//EN
CALSCALE:GREGORIAN
METHOD:PUBLISH
X-WR-CALNAME:Metro Atlanta Hawg Hunters
X-ORIGINAL-URL:https://metroatlantahawghunters.net
X-WR-CALDESC:Events for Metro Atlanta Hawg Hunters
BEGIN:VTIMEZONE
TZID:"America/New_York"
BEGIN:DAYLIGHT
TZOFFSETFROM:-0500
TZOFFSETTO:-0400
TZNAME:EDT
DTSTART:20220313T070000
END:DAYLIGHT
BEGIN:STANDARD
TZOFFSETFROM:-0400
TZOFFSETTO:-0500
TZNAME:EST
DTSTART:20221106T060000
END:STANDARD
END:VTIMEZONE
BEGIN:VEVENT
DTSTART;TZID="America/New_York":20220205T015500
DTEND;TZID="America/New_York":20220205T015600
DTSTAMP:20260425T034117
CREATED:20210107T034611Z
LAST-MODIFIED:20220215T172908Z
UID:2095-1644026100-1644026160@metroatlantahawghunters.net
SUMMARY:Synergy Series
DESCRIPTION:
URL:https://metroatlantahawghunters.net/event/synergy-series-4/
LOCATION:Lake Murray
ORGANIZER;CN="Metro%20Atlanta%20Hawg%20Hunters":MAILTO:Spotstickerman300@yahoo.com
END:VEVENT
END:VCALENDAR