BEGIN:VCALENDAR
VERSION:2.0
PRODID:-//Metro Atlanta Hawg Hunters - ECPv4.9.6//NONSGML v1.0//EN
CALSCALE:GREGORIAN
METHOD:PUBLISH
X-WR-CALNAME:Metro Atlanta Hawg Hunters
X-ORIGINAL-URL:https://metroatlantahawghunters.net
X-WR-CALDESC:Events for Metro Atlanta Hawg Hunters
BEGIN:VTIMEZONE
TZID:"America/New_York"
BEGIN:DAYLIGHT
TZOFFSETFROM:-0500
TZOFFSETTO:-0400
TZNAME:EDT
DTSTART:20230312T070000
END:DAYLIGHT
BEGIN:STANDARD
TZOFFSETFROM:-0400
TZOFFSETTO:-0500
TZNAME:EST
DTSTART:20231105T060000
END:STANDARD
END:VTIMEZONE
BEGIN:VEVENT
DTSTART;TZID="America/New_York":20230624T015500
DTEND;TZID="America/New_York":20230624T015600
DTSTAMP:20260423T234901
CREATED:20221222T154935Z
LAST-MODIFIED:20230307T093111Z
UID:4533-1687571700-1687571760@metroatlantahawghunters.net
SUMMARY:Lake West Point
DESCRIPTION:
URL:https://metroatlantahawghunters.net/event/lake-west-point-2/
LOCATION:Lake West Point\, 1000 Seminole Road\, Lagrange\, GA\, 30240\, United States
END:VEVENT
END:VCALENDAR