BEGIN:VCALENDAR
VERSION:2.0
PRODID:-//Metro Atlanta Hawg Hunters - ECPv4.9.6//NONSGML v1.0//EN
CALSCALE:GREGORIAN
METHOD:PUBLISH
X-WR-CALNAME:Metro Atlanta Hawg Hunters
X-ORIGINAL-URL:https://metroatlantahawghunters.net
X-WR-CALDESC:Events for Metro Atlanta Hawg Hunters
BEGIN:VTIMEZONE
TZID:"America/New_York"
BEGIN:DAYLIGHT
TZOFFSETFROM:-0500
TZOFFSETTO:-0400
TZNAME:EDT
DTSTART:20240310T070000
END:DAYLIGHT
BEGIN:STANDARD
TZOFFSETFROM:-0400
TZOFFSETTO:-0500
TZNAME:EST
DTSTART:20241103T060000
END:STANDARD
END:VTIMEZONE
BEGIN:VEVENT
DTSTART;TZID="America/New_York":20240323T015500
DTEND;TZID="America/New_York":20240324T015500
DTSTAMP:20260423T093054
CREATED:20240124T085943Z
LAST-MODIFIED:20240124T101727Z
UID:5178-1711158900-1711245300@metroatlantahawghunters.net
SUMMARY:Black Warrior River - Border’s Trail
DESCRIPTION:
URL:https://metroatlantahawghunters.net/event/black-warrior-river-borders-trail/
LOCATION:Black Warrior River
END:VEVENT
END:VCALENDAR