BEGIN:VCALENDAR
VERSION:2.0
PRODID:-//Metro Atlanta Hawg Hunters - ECPv4.9.6//NONSGML v1.0//EN
CALSCALE:GREGORIAN
METHOD:PUBLISH
X-WR-CALNAME:Metro Atlanta Hawg Hunters
X-ORIGINAL-URL:https://metroatlantahawghunters.net
X-WR-CALDESC:Events for Metro Atlanta Hawg Hunters
BEGIN:VTIMEZONE
TZID:"America/New_York"
BEGIN:DAYLIGHT
TZOFFSETFROM:-0500
TZOFFSETTO:-0400
TZNAME:EDT
DTSTART:20240310T070000
END:DAYLIGHT
BEGIN:STANDARD
TZOFFSETFROM:-0400
TZOFFSETTO:-0500
TZNAME:EST
DTSTART:20241103T060000
END:STANDARD
END:VTIMEZONE
BEGIN:VEVENT
DTSTART;TZID="America/New_York":20240831T015500
DTEND;TZID="America/New_York":20240831T015500
DTSTAMP:20260423T000425
CREATED:20240124T094430Z
LAST-MODIFIED:20240124T094430Z
UID:5218-1725069300-1725069300@metroatlantahawghunters.net
SUMMARY:Logan Martin - AL MORRIS
DESCRIPTION:
URL:https://metroatlantahawghunters.net/event/logan-martin-al-morris/
LOCATION:Logan Martin Lake\, 7062 Stemley Rd\, Talladega\, AL\, 35160\, United States
END:VEVENT
END:VCALENDAR