BEGIN:VCALENDAR
VERSION:2.0
PRODID:-//Metro Atlanta Hawg Hunters - ECPv4.9.6//NONSGML v1.0//EN
CALSCALE:GREGORIAN
METHOD:PUBLISH
X-WR-CALNAME:Metro Atlanta Hawg Hunters
X-ORIGINAL-URL:https://metroatlantahawghunters.net
X-WR-CALDESC:Events for Metro Atlanta Hawg Hunters
BEGIN:VTIMEZONE
TZID:"America/New_York"
BEGIN:DAYLIGHT
TZOFFSETFROM:-0500
TZOFFSETTO:-0400
TZNAME:EDT
DTSTART:20240310T070000
END:DAYLIGHT
BEGIN:STANDARD
TZOFFSETFROM:-0400
TZOFFSETTO:-0500
TZNAME:EST
DTSTART:20241103T060000
END:STANDARD
END:VTIMEZONE
BEGIN:VEVENT
DTSTART;TZID="America/New_York":20240914T015500
DTEND;TZID="America/New_York":20240914T015600
DTSTAMP:20260423T002400
CREATED:20240124T094823Z
LAST-MODIFIED:20240124T094823Z
UID:5222-1726278900-1726278960@metroatlantahawghunters.net
SUMMARY:Clarks Hill - Synergy
DESCRIPTION:
URL:https://metroatlantahawghunters.net/event/clarks-hill-synergy/
LOCATION:Clarks Hill\, 510 Clarks Hill Highway\, Clarks Hill\, SC\, SC 29821-9701\, United States
END:VEVENT
END:VCALENDAR