BEGIN:VCALENDAR
VERSION:2.0
PRODID:-//Metro Atlanta Hawg Hunters - ECPv4.9.6//NONSGML v1.0//EN
CALSCALE:GREGORIAN
METHOD:PUBLISH
X-WR-CALNAME:Metro Atlanta Hawg Hunters
X-ORIGINAL-URL:https://metroatlantahawghunters.net
X-WR-CALDESC:Events for Metro Atlanta Hawg Hunters
BEGIN:VTIMEZONE
TZID:"America/New_York"
BEGIN:DAYLIGHT
TZOFFSETFROM:-0500
TZOFFSETTO:-0400
TZNAME:EDT
DTSTART:20240310T070000
END:DAYLIGHT
BEGIN:STANDARD
TZOFFSETFROM:-0400
TZOFFSETTO:-0500
TZNAME:EST
DTSTART:20241103T060000
END:STANDARD
END:VTIMEZONE
BEGIN:VEVENT
DTSTART;TZID="America/New_York":20241012T015500
DTEND;TZID="America/New_York":20241013T015500
DTSTAMP:20260422T224613
CREATED:20240124T100051Z
LAST-MODIFIED:20240124T100051Z
UID:5231-1728698100-1728784500@metroatlantahawghunters.net
SUMMARY:Logan Martin - MAHH
DESCRIPTION:
URL:https://metroatlantahawghunters.net/event/logan-martin-mahh/
LOCATION:Logan Martin Lake\, 7062 Stemley Rd\, Talladega\, AL\, 35160\, United States
CATEGORIES:MAHH
ORGANIZER;CN="Metro%20Atlanta%20Hawg%20Hunters":MAILTO:Spotstickerman300@yahoo.com
END:VEVENT
END:VCALENDAR