BEGIN:VCALENDAR
VERSION:2.0
PRODID:-//Metro Atlanta Hawg Hunters - ECPv4.9.6//NONSGML v1.0//EN
CALSCALE:GREGORIAN
METHOD:PUBLISH
X-WR-CALNAME:Metro Atlanta Hawg Hunters
X-ORIGINAL-URL:https://metroatlantahawghunters.net
X-WR-CALDESC:Events for Metro Atlanta Hawg Hunters
BEGIN:VTIMEZONE
TZID:"America/New_York"
BEGIN:DAYLIGHT
TZOFFSETFROM:-0500
TZOFFSETTO:-0400
TZNAME:EDT
DTSTART:20250309T070000
END:DAYLIGHT
BEGIN:STANDARD
TZOFFSETFROM:-0400
TZOFFSETTO:-0500
TZNAME:EST
DTSTART:20251102T060000
END:STANDARD
END:VTIMEZONE
BEGIN:VEVENT
DTSTART;TZID="America/New_York":20250913T015500
DTEND;TZID="America/New_York":20250913T015600
DTSTAMP:20260422T033207
CREATED:20250225T220938Z
LAST-MODIFIED:20250226T031455Z
UID:5507-1757728500-1757728560@metroatlantahawghunters.net
SUMMARY:EZ Trail - Bartlett Ferry
DESCRIPTION:
URL:https://metroatlantahawghunters.net/event/ez-trail-bartlett-ferry/
LOCATION:GA\, United States
END:VEVENT
END:VCALENDAR