BEGIN:VCALENDAR
VERSION:2.0
PRODID:-//Metro Atlanta Hawg Hunters - ECPv4.9.6//NONSGML v1.0//EN
CALSCALE:GREGORIAN
METHOD:PUBLISH
X-WR-CALNAME:Metro Atlanta Hawg Hunters
X-ORIGINAL-URL:https://metroatlantahawghunters.net
X-WR-CALDESC:Events for Metro Atlanta Hawg Hunters
BEGIN:VTIMEZONE
TZID:"America/New_York"
BEGIN:DAYLIGHT
TZOFFSETFROM:-0500
TZOFFSETTO:-0400
TZNAME:EDT
DTSTART:20250309T070000
END:DAYLIGHT
BEGIN:STANDARD
TZOFFSETFROM:-0400
TZOFFSETTO:-0500
TZNAME:EST
DTSTART:20251102T060000
END:STANDARD
END:VTIMEZONE
BEGIN:VEVENT
DTSTART;TZID="America/New_York":20251004T015500
DTEND;TZID="America/New_York":20251005T015500
DTSTAMP:20260422T014525
CREATED:20250225T221621Z
LAST-MODIFIED:20250226T031334Z
UID:5517-1759542900-1759629300@metroatlantahawghunters.net
SUMMARY:Metro 2 Day - Logan Martin - TBD
DESCRIPTION:
URL:https://metroatlantahawghunters.net/event/metro-2-day-logan-martin-tbd/
LOCATION:GA\, United States
CATEGORIES:MAHH
ORGANIZER;CN="Metro%20Atlanta%20Hawg%20Hunters":MAILTO:Spotstickerman300@yahoo.com
END:VEVENT
END:VCALENDAR